BEGIN:VCALENDAR
VERSION:2.0
PRODID:icalendar-ruby
CALSCALE:GREGORIAN
METHOD:PUBLISH
BEGIN:VEVENT
DTSTAMP:20260420T220040Z
UID:d9f25915-8831-4324-9459-3ed29a706718
DTSTART:20201001T190000
DTEND:20201001T230000
DESCRIPTION:<h1><span style="color: rgb(5\, 5\, 5)\;">Aloe From (Not Just )
  Home.</span></h1><p><br></p><p><span style="color: rgb(5\, 5\, 5)\;">A se
 ries of weekly ticketed/contribution online live performances from a diver
 se array of musicians and DJs.</span></p><p><span style="color: rgb(5\, 5\
 , 5)\;">Performing LIVE from the comfort of a welcome space\, The Raptor R
 oom and into your homes too. </span></p><p><br></p><p><span style="color:
  rgb(5\, 5\, 5)\;">Aloe From Home was conceived when COVID-19 decided to t
 our SA in March 2020...</span></p><p><span style="color: rgb(5\, 5\, 5)\;"
 >In light of these evolving times we have created a space for the scene-sh
 aping\, genre-bending\, independent musician to perform live on digital br
 oadcast platforms.</span></p><p><br></p><p><span style="color: rgb(5\, 5\,
  5)\;">We have two options for you to experience this fantastic show.</spa
 n></p><p><span style="color: rgb(5\, 5\, 5)\;">2-4-1 Burgers and a show fr
 om </span><a href="https://aloealoemusic.howler.co.za/events/aloe-from-not
 -just-home-with-lakei-phola-phola-ab46" target="_blank" style="color: rgb(
 5\, 5\, 5)\;">The Raptor Room</a><span style="color: rgb(5\, 5\, 5)\;"> or
  </span><a href="https://aloealoemusic.howler.co.za/events/aloe-from-not-j
 ust-home-with-lakei-phola-phola-ead7" target="_blank" style="color: rgb(5\
 , 5\, 5)\;">Virtually</a><span style="color: rgb(5\, 5\, 5)\;"> from your 
 home. </span></p><p> </p><p><span style="color: rgb(5\, 5\, 5)\;">If you
  would like to be a part of this show but don't have the finances\, do ple
 ase send us a message. We have a few FREE tickets available. We want to op
 en up this experience to everyone.</span></p><p><span style="color: rgb(5\
 , 5\, 5)\;">A portion of sales & contributions will go to an Organization/
 Charity of the artists choice.</span></p><p><span style="color: rgb(5\, 5\
 , 5)\;">We stand for diversity and equality.Intolerance will not be tolera
 ted.This is a safe space. An inclusive and welcoming ethos is an all round
  request.</span></p><p><a href="https://www.facebook.com/hashtag/supportth
 emusic?__eep__=6" target="_blank" style="color: rgb(17\, 85\, 204)\;">#Sup
 portTheMusic</a></p><p><a href="https://www.instagram.com/aloealoemusic/" 
 target="_blank" style="color: rgb(5\, 5\, 5)\;">@aloealoemusic</a></p><p><
 a href="https://www.instagram.com/theraptorroom/" target="_blank" style="c
 olor: rgb(5\, 5\, 5)\;">@theraptorroom</a></p>
LOCATION:79 Roeland Street\, Cape Town\, 8001
SUMMARY:Aloe From (Not Just) Home with Lakei & Phola Phola - Seated
URL;VALUE=URI:https://aloealoemusic.howler.co.za/lakei_pholaphola
END:VEVENT
END:VCALENDAR
