BEGIN:VCALENDAR
VERSION:2.0
PRODID:icalendar-ruby
CALSCALE:GREGORIAN
METHOD:PUBLISH
BEGIN:VEVENT
DTSTAMP:20260420T232815Z
UID:628e08e3-4f47-4b21-a281-2ee4ef1eb2d5
DTSTART:20201001T200000
DTEND:20201008T120000
DESCRIPTION:<h1><span style="color: rgb(5\, 5\, 5)\;">Aloe From (Not Just) 
 Home.</span></h1><p><br></p><p><span style="color: rgb(5\, 5\, 5)\;">A ser
 ies of weekly ticketed/contribution online live performances from a divers
 e array of musicians and DJs.</span></p><p><span style="color: rgb(5\, 5\,
  5)\;">Performing LIVE from the comfort of a welcome space\, The Raptor Ro
 om and into your homes too. </span></p><p><br></p><p><span style="color: 
 rgb(5\, 5\, 5)\;">Aloe From Home was conceived when COVID-19 decided to to
 ur SA in March 2020...</span></p><p><span style="color: rgb(5\, 5\, 5)\;">
 In light of these evolving times we have created a space for the scene-sha
 ping\, genre-bending\, independent musician to perform live on digital bro
 adcast platforms.</span></p><p><br></p><p><span style="color: rgb(5\, 5\, 
 5)\;">We have two options for you to experience this fantastic show.</span
 ></p><p><span style="color: rgb(5\, 5\, 5)\;">2-4-1 Burgers and a show fro
 m </span><a href="https://aloealoemusic.howler.co.za/events/aloe-from-not-
 just-home-with-lakei-phola-phola-ab46" target="_blank" style="color: rgb(5
 \, 5\, 5)\;">The Raptor Room</a><span style="color: rgb(5\, 5\, 5)\;"> or 
 </span><a href="https://aloealoemusic.howler.co.za/events/aloe-from-not-ju
 st-home-with-lakei-phola-phola-ead7" target="_blank" style="color: rgb(5\,
  5\, 5)\;">Virtually</a><span style="color: rgb(5\, 5\, 5)\;"> from your h
 ome. </span></p><p> </p><p><span style="color: rgb(5\, 5\, 5)\;">If you 
 would like to be a part of this show but don't have the finances\, do plea
 se send us a message. We have a few FREE tickets available. We want to ope
 n up this experience to everyone.</span></p><p><span style="color: rgb(5\,
  5\, 5)\;">A portion of sales & contributions will go to an Organization/C
 harity of the artists choice.</span></p><p><span style="color: rgb(5\, 5\,
  5)\;">We stand for diversity and equality.Intolerance will not be tolerat
 ed.This is a safe space. An inclusive and welcoming ethos is an all round 
 request.</span></p><p><a href="https://www.facebook.com/hashtag/supportthe
 music?__eep__=6" target="_blank" style="color: rgb(17\, 85\, 204)\;">#Supp
 ortTheMusic</a></p><p><a href="https://www.instagram.com/aloealoemusic/" t
 arget="_blank" style="color: rgb(5\, 5\, 5)\;">@aloealoemusic</a></p><p><a
  href="https://www.instagram.com/theraptorroom/" target="_blank" style="co
 lor: rgb(5\, 5\, 5)\;">@theraptorroom</a></p>
SUMMARY:Aloe From (Not Just) Home with Lakei & Phola Phola
URL;VALUE=URI:https://aloealoemusic.howler.co.za/lakei_pholapholastream
END:VEVENT
END:VCALENDAR
